BEGIN:VCALENDAR
VERSION:2.0
PRODID:El Segundo Calendar Creator
METHOD:PUBLISH
BEGIN:VEVENT
DTSTAMP:20220613T165255
DTSTART:20220621T153000
DTEND:20220621T163000
SUMMARY:Crafteen
DESCRIPTION:<p>Crafteen<br>(Teens 12-17yrs)</p><p>Join us at STUFT PIZZA on Main st for a fun afternoon of making crafts!<br>All supplies are included.&nbsp;</p>
X-ALT-DESC;FMTTYPE=text/html:<p>Crafteen<br>(Teens 12-17yrs)</p><p>Join us at STUFT PIZZA on Main st for a fun afternoon of making crafts!<br>All supplies are included.&nbsp;</p>
LOCATION:Stuft Pizza\, 400 Main Street El Segundo\, California 90245
CLASS:PUBLIC
END:VEVENT
END:VCALENDAR
