BEGIN:VCALENDAR
VERSION:2.0
PRODID:El Segundo Calendar Creator
METHOD:PUBLISH
BEGIN:VEVENT
DTSTAMP:20220512T181650
DTSTART:20220607T153000
DTEND:20220607T163000
SUMMARY:Crafteen
DESCRIPTION:<p>Crafteen<br>(Teens 12-17yrs)</p><p>Join us in the Sue Carter Community Room for a fun afternoon of making crafts!<br>All supplies are included.&nbsp;</p>
X-ALT-DESC;FMTTYPE=text/html:<p>Crafteen<br>(Teens 12-17yrs)</p><p>Join us in the Sue Carter Community Room for a fun afternoon of making crafts!<br>All supplies are included.&nbsp;</p>
LOCATION:El Segundo Public Library\, 111 W. Mariposa Avenue El Segundo\, California 90245
CLASS:PUBLIC
END:VEVENT
END:VCALENDAR
