BEGIN:VCALENDAR
VERSION:2.0
PRODID:El Segundo Calendar Creator
METHOD:PUBLISH
BEGIN:VEVENT
DTSTAMP:20220510T121046
DTSTART:20220519T160000
DTEND:20220519T170000
SUMMARY:Friends of the Library Business Meeting
DESCRIPTION:<p>Members of the Friends of the El Segundo Public Library meet to discuss library-related activities. The business meeting is held on the third Thursday of the month, on a bi-monthly basis--January, March, May, July, September and November. The business meetings are open to the public and everyone is welcome to attend.</p>
X-ALT-DESC;FMTTYPE=text/html:<p>Members of the Friends of the El Segundo Public Library meet to discuss library-related activities. The business meeting is held on the third Thursday of the month, on a bi-monthly basis--January, March, May, July, September and November. The business meetings are open to the public and everyone is welcome to attend.</p>
LOCATION:Rose Garden Room\, El Segundo Public Library\, 111 W. Mariposa Avenue El Segundo\, California 90245
CLASS:PUBLIC
END:VEVENT
END:VCALENDAR
