BEGIN:VCALENDAR
VERSION:2.0
PRODID:El Segundo Calendar Creator
METHOD:PUBLISH
BEGIN:VEVENT
DTSTAMP:20220509T212308
DTSTART:20220519T153000
DTEND:20220519T163000
SUMMARY:Firefighter Storytime
DESCRIPTION:<p direction-ltr="" align-center="" para-style-body"="">Join us for Storytime with the El Segundo Fire Department!</p><p direction-ltr="" align-center="" para-style-body"="">3:30pm- 4:30pm in the Sue Carter Community Room.</p><p direction-ltr="" align-center="" para-style-body"="">Following Storytime with Fire Captain Don Dennis children will get to see a fire engine outside near Library Park.</p>
X-ALT-DESC;FMTTYPE=text/html:<p direction-ltr="" align-center="" para-style-body"="">Join us for Storytime with the El Segundo Fire Department!</p><p direction-ltr="" align-center="" para-style-body"="">3:30pm- 4:30pm in the Sue Carter Community Room.</p><p direction-ltr="" align-center="" para-style-body"="">Following Storytime with Fire Captain Don Dennis children will get to see a fire engine outside near Library Park.</p>
LOCATION:El Segundo Public Library\, 111 W. Mariposa Avenue El Segundo\, California 90245
CLASS:PUBLIC
END:VEVENT
END:VCALENDAR
