BEGIN:VCALENDAR
VERSION:2.0
PRODID:El Segundo Calendar Creator
METHOD:PUBLISH
BEGIN:VEVENT
DTSTAMP:20221018T123351
DTSTART:20220914T180000
DTEND:20220914T200000
SUMMARY:Diversity Equity, and Inclusion Committee Meeting
DESCRIPTION:<p>&nbsp;</p><p><strong>PUBLIC COMMUNICATION 9.14.2022:&nbsp;<a href="https://www.elsegundo.gov/home/showpublisheddocument/6005/637987738576200000" target="_blank" id="DEI Public Comment 9.14.22">Comment - DEI Committee Meeting 9_14_22 - Item E.c.</a></strong></p>
X-ALT-DESC;FMTTYPE=text/html:<p>&nbsp;</p><p><strong>PUBLIC COMMUNICATION 9.14.2022:&nbsp;<a href="https://www.elsegundo.gov/home/showpublisheddocument/6005/637987738576200000" target="_blank" id="DEI Public Comment 9.14.22">Comment - DEI Committee Meeting 9_14_22 - Item E.c.</a></strong></p>
LOCATION:City Hall (West Conference Room)\, 350 Main St El Segundo\, California 90245
CLASS:PUBLIC
END:VEVENT
END:VCALENDAR
