BEGIN:VCALENDAR
VERSION:2.0
PRODID:El Segundo Calendar Creator
METHOD:PUBLISH
BEGIN:VEVENT
DTSTAMP:20220725T094250
DTSTART:20220813T160000
DTEND:20220814T100000
SUMMARY:Family Campout
DESCRIPTION:<p>&nbsp;<iframe src="https://www.youtube.com/embed/DQtwqpdIM1g" width="400" allowfullscreen="" height="300" frameborder="0"></iframe></p><p>Join us for the Family Campout this August at Stevenson Field in Recreation Park. This community event invites local residents and guests to bring tents and camp out under the stars. Enjoy an evening full of fun that includes a BBQ dinner, open activities, and a station set-up to make s'mores over a campfire. There will also be an outdoor showing of a movie at dusk. After a night of quiet rest, a continental breakfast is provided bright and early the following morning.</p><p>Wristband sales begin July 5th for El Segundo Residents with a valid 2022 Rec ID and on July 15th for Non-Residents. Wristbands are available at the George E. Gordon Clubhouse from July 5th through August 2nd. Due to preparation needs, this event is pre-sale only.</p><p>Entry at 4pm on Saturday. </p><p>No sales onsite &amp; no refunds. </p><p>Must have wristbands at the gate. </p><p>No alcohol. </p><p>No pets allowed.</p>
X-ALT-DESC;FMTTYPE=text/html:<p>&nbsp;<iframe src="https://www.youtube.com/embed/DQtwqpdIM1g" width="400" allowfullscreen="" height="300" frameborder="0"></iframe></p><p>Join us for the Family Campout this August at Stevenson Field in Recreation Park. This community event invites local residents and guests to bring tents and camp out under the stars. Enjoy an evening full of fun that includes a BBQ dinner, open activities, and a station set-up to make s'mores over a campfire. There will also be an outdoor showing of a movie at dusk. After a night of quiet rest, a continental breakfast is provided bright and early the following morning.</p><p>Wristband sales begin July 5th for El Segundo Residents with a valid 2022 Rec ID and on July 15th for Non-Residents. Wristbands are available at the George E. Gordon Clubhouse from July 5th through August 2nd. Due to preparation needs, this event is pre-sale only.</p><p>Entry at 4pm on Saturday. </p><p>No sales onsite &amp; no refunds. </p><p>Must have wristbands at the gate. </p><p>No alcohol. </p><p>No pets allowed.</p>
LOCATION:Stevenson Field\, Holly Ave. & Euclyptus Dr. El Segundo\, California 90245
CLASS:PUBLIC
END:VEVENT
END:VCALENDAR
