BEGIN:VCALENDAR
VERSION:2.0
PRODID:El Segundo Calendar Creator
METHOD:PUBLISH
BEGIN:VEVENT
DTSTAMP:20220711T133846
DTSTART:20220721T180000
DTEND:20220721T190000
SUMMARY:Hyperion El Segundo Citizens Forum
DESCRIPTION:<p>The next&nbsp;El&nbsp;Segundo&nbsp;Citizens&nbsp;Forum&nbsp;in-person meeting will be held at the&nbsp;El&nbsp;Segundo&nbsp;Public Library (111 W Mariposa Avenue,&nbsp;El&nbsp;Segundo, CA 90245) on Thursday, July 21, 2022, from 6:00pm to 7:00pm.&nbsp;<br><br>Topics will include the following:</p><ul>    <li> Upcoming construction at Hyperion</li>    <li> Maintenance update</li>    <li> Operations report</li>    <li> Call log</li>    <li> Biosolids and environmental management update</li></ul><p> To RSVP to this event in advance, please email <a href="mailto:LASAN.CleanWater.Outreach@lacity.org" target="_blank">LASAN.CleanWater.Outreach@lacity.org</a> with the subject title "El Segundo Citizens Forum".</p><p>For more information and to see the meeting flyer, <a href="https://www.elsegundo.gov/home/showpublisheddocument/5743/637931430025670000" target="_blank">click here</a>.&nbsp;</p>
X-ALT-DESC;FMTTYPE=text/html:<p>The next&nbsp;El&nbsp;Segundo&nbsp;Citizens&nbsp;Forum&nbsp;in-person meeting will be held at the&nbsp;El&nbsp;Segundo&nbsp;Public Library (111 W Mariposa Avenue,&nbsp;El&nbsp;Segundo, CA 90245) on Thursday, July 21, 2022, from 6:00pm to 7:00pm.&nbsp;<br><br>Topics will include the following:</p><ul>    <li> Upcoming construction at Hyperion</li>    <li> Maintenance update</li>    <li> Operations report</li>    <li> Call log</li>    <li> Biosolids and environmental management update</li></ul><p> To RSVP to this event in advance, please email <a href="mailto:LASAN.CleanWater.Outreach@lacity.org" target="_blank">LASAN.CleanWater.Outreach@lacity.org</a> with the subject title "El Segundo Citizens Forum".</p><p>For more information and to see the meeting flyer, <a href="https://www.elsegundo.gov/home/showpublisheddocument/5743/637931430025670000" target="_blank">click here</a>.&nbsp;</p>
LOCATION:
CLASS:PUBLIC
END:VEVENT
END:VCALENDAR
