BEGIN:VCALENDAR
VERSION:2.0
PRODID:El Segundo Calendar Creator
METHOD:PUBLISH
BEGIN:VEVENT
DTSTAMP:20220609T113313
DTSTART:20220611T130000
DTEND:20220611T150000
SUMMARY:Silver Linings Trio at the Gazebo
DESCRIPTION:The library presents a FREE concert featuring <strong>The</strong> <b>Silver Linings Trio.</b>&nbsp; The trio,&nbsp;consisting of two violins and a cello,&nbsp;plays clever and uplifting arrangements of Santana to Sinatra, Bach to Beatles, movie tunes and more! These musicians have played on hundreds of movie soundtracks and have appeared in movies, commercials and famous tv shows. Join us for a delightful afternoon!
X-ALT-DESC;FMTTYPE=text/html:The library presents a FREE concert featuring <strong>The</strong> <b>Silver Linings Trio.</b>&nbsp; The trio,&nbsp;consisting of two violins and a cello,&nbsp;plays clever and uplifting arrangements of Santana to Sinatra, Bach to Beatles, movie tunes and more! These musicians have played on hundreds of movie soundtracks and have appeared in movies, commercials and famous tv shows. Join us for a delightful afternoon!
LOCATION:Library Park\, 600 Block of Main Street El Segundo\, California 90245
CLASS:PUBLIC
END:VEVENT
END:VCALENDAR
