BEGIN:VCALENDAR
VERSION:2.0
PRODID:El Segundo Calendar Creator
METHOD:PUBLISH
BEGIN:VEVENT
DTSTAMP:20220518T095128
DTSTART:20220412T130000
DTEND:20220412T130000
SUMMARY:City Council Meeting SPECIAL - Strategic Planning Workshop
DESCRIPTION:<p style="text-align: center;">SPECIAL SESSION<br>STRATEGIC PLANNING WORKSHOP<br>EL SEGUNDO CITY COUNCIL<br>TUESDAY, APRIL 12, 2022 – 1:00 PM</p><p style="text-align: center;">&nbsp;</p><p style="text-align: left;"><strong>ADDITIONAL INFORMATION:</strong>&nbsp;</p><p style="text-align: left;"><a href="https://docs.elsegundo.org/WebLink/DocView.aspx?id=1163757&amp;dbid=0&amp;repo=COES" target="_blank" id="Strategic Plan"><strong><span style="text-decoration: underline;">2022-04-12 CC Agenda Packet SPC - Additional Information - Strategic Plan Agenda</span></strong></a></p><p style="text-align: left;"><strong><span style="text-decoration: underline;"><a href="https://docs.elsegundo.org/WebLink/DocView.aspx?id=1163755&amp;dbid=0&amp;repo=COES" target="_blank" id="Strategic Plan"><strong>2022-04-12 CC Agenda Packet SPC - Additional Information - CCB Strategic Plan Input</strong></a></span></strong></p><p style="text-align: left;"><a href="https://docs.elsegundo.org/WebLink/DocView.aspx?id=1163758&amp;dbid=0&amp;repo=COES" target="_blank" id="Strategic Plan"><strong><span style="text-decoration: underline;">2022-04-12 CC Agenda Packet SPC - Additional Information - Strategic Work Plan Progress Report FY 2021-22&nbsp;</span></strong></a></p><p style="text-align: left;"><strong><span style="text-decoration: underline;"><a href="https://docs.elsegundo.org/WebLink/DocView.aspx?id=1163756&amp;dbid=0&amp;repo=COES" target="_blank" id="Strategic Plan"><strong>2022-04-12 CC Agenda Packet SPC - Additional Information - Strategic Plan FY 2022-23 through FY 2025-26</strong></a></span></strong></p><p style="text-align: left;"><strong><span style="text-decoration: underline;"><strong><a href="https://docs.elsegundo.org/WebLink/DocView.aspx?id=1163777&amp;dbid=0&amp;repo=COES" target="_blank">2022-04-12 CC Agenda Packet SPC - Additional Information - Management Partners Memo</a></strong></span></strong></p>
X-ALT-DESC;FMTTYPE=text/html:<p style="text-align: center;">SPECIAL SESSION<br>STRATEGIC PLANNING WORKSHOP<br>EL SEGUNDO CITY COUNCIL<br>TUESDAY, APRIL 12, 2022 – 1:00 PM</p><p style="text-align: center;">&nbsp;</p><p style="text-align: left;"><strong>ADDITIONAL INFORMATION:</strong>&nbsp;</p><p style="text-align: left;"><a href="https://docs.elsegundo.org/WebLink/DocView.aspx?id=1163757&amp;dbid=0&amp;repo=COES" target="_blank" id="Strategic Plan"><strong><span style="text-decoration: underline;">2022-04-12 CC Agenda Packet SPC - Additional Information - Strategic Plan Agenda</span></strong></a></p><p style="text-align: left;"><strong><span style="text-decoration: underline;"><a href="https://docs.elsegundo.org/WebLink/DocView.aspx?id=1163755&amp;dbid=0&amp;repo=COES" target="_blank" id="Strategic Plan"><strong>2022-04-12 CC Agenda Packet SPC - Additional Information - CCB Strategic Plan Input</strong></a></span></strong></p><p style="text-align: left;"><a href="https://docs.elsegundo.org/WebLink/DocView.aspx?id=1163758&amp;dbid=0&amp;repo=COES" target="_blank" id="Strategic Plan"><strong><span style="text-decoration: underline;">2022-04-12 CC Agenda Packet SPC - Additional Information - Strategic Work Plan Progress Report FY 2021-22&nbsp;</span></strong></a></p><p style="text-align: left;"><strong><span style="text-decoration: underline;"><a href="https://docs.elsegundo.org/WebLink/DocView.aspx?id=1163756&amp;dbid=0&amp;repo=COES" target="_blank" id="Strategic Plan"><strong>2022-04-12 CC Agenda Packet SPC - Additional Information - Strategic Plan FY 2022-23 through FY 2025-26</strong></a></span></strong></p><p style="text-align: left;"><strong><span style="text-decoration: underline;"><strong><a href="https://docs.elsegundo.org/WebLink/DocView.aspx?id=1163777&amp;dbid=0&amp;repo=COES" target="_blank">2022-04-12 CC Agenda Packet SPC - Additional Information - Management Partners Memo</a></strong></span></strong></p>
LOCATION:Davinci Schools - SkyBox\, 201 N. Douglas Street El Segundo\, California 90245
CLASS:PUBLIC
END:VEVENT
END:VCALENDAR
