BEGIN:VCALENDAR
VERSION:2.0
PRODID:El Segundo Calendar Creator
METHOD:PUBLISH
BEGIN:VEVENT
DTSTAMP:20220329T104109
DTSTART:20220401T120000
DTEND:20220401T170000
SUMMARY:Environmental Committee Meeting April 1, 2022
DESCRIPTION:<p align="center" style="text-align: left;"><b>REGULAR MEETING OF THE</b></p><p align="center" style="text-align: left;"><b>EL SEGUNDO PUBLIC WORKS/ENVIRONMENTAL COMMITTEE</b></p><p align="center" style="text-align: left;"><b>Friday, April 1, 2022 – 12:00 P.M.</b></p><h4 style="text-align: left;"><sub>DUE TO THE COVID-19 EMERGENCY</sub></h4><h4 style="text-align: left;"><sub>THIS MEETING WILL BE CONDUCTED</sub></h4><h4 style="text-align: left;"><sub>PURSUANT TO THE GOVERNOR’S</sub></h4><h4 style="text-align: left;"><sub>EXECUTIVE ORDER N-29-20</sub></h4><p><a href="https://us06web.zoom.us/j/94859632902?pwd=LzRFYTg2cVA3cmhrTTEzOWVhcVBHQT09">https://us06web.zoom.us/j/94859632902?pwd=LzRFYTg2cVA3cmhrTTEzOWVhcVBHQT09</a></p><p>Meeting ID: 948 5963 2902</p><p>Passcode: 457632</p><p><b>How Can Members of the Public Observe and Provide Public Comments?</b></p><p>Members of the Public are encouraged to participate remotely in the virtual Public Works/Environmental Committee Meeting per the Zoom information listed above and may reach out to Director Elias Sassoon via phone at 310-524-2356 or email at <a href="mailto:&#101;&#115;&#97;&#115;&#115;&#111;&#111;&#110;&#64;&#101;&#108;&#115;&#101;&#103;&#117;&#110;&#100;&#111;&#46;&#111;&#114;&#103;">esassoon@elsegundo.org</a> for support with connectivity. Members of the Public may provide comments live via Zoom during the Public Communications item, or submit them electronically to Director Elias Sassoon via email at <a href="mailto:&#101;&#115;&#97;&#115;&#115;&#111;&#111;&#110;&#64;&#101;&#108;&#115;&#101;&#103;&#117;&#110;&#100;&#111;&#46;&#111;&#114;&#103;">esassoon@elsegundo.org</a>, with a limit of 150 words and accepted up until 30 minutes prior to the meeting. The emails will be read to the Public Works/Environmental Committee during public communications and are subject to disclosure under the Public Records Act.</p><p>&nbsp;</p><p><b>Additional Information</b></p><p> The Public Works/Environmental Committee<b>,</b> with certain statutory exceptions, can only take action upon properly posted and listed agenda items. Unless otherwise noted in the Agenda, the public can only comment on City-related business that is within the subject matter jurisdiction of the Public Works/Environmental Committee<b>, </b>and items listed on the Agenda during the <b>Public Communications</b> portion of the meeting.</p><p>&nbsp;</p><p><strong>AGENDA&nbsp;&nbsp;<span style="text-decoration: underline;"><a href="https://content.govdelivery.com/attachments/CAELSEGUNDO/2022/03/28/file_attachments/2115712/Environmental%20Committee%20-%20Agenda%20-%20April%201,%202022.pdf" target="_blank" id="AGENDA">ENVIRONMENTAL COMMITTEE AGENDA APRIL 1, 2022</a></span></strong></p><p><strong><a href="https://www.elsegundo.gov/home/showpublisheddocument/5208/637841449192100000" target="_blank">MINUTES March 4, 2022</a></strong></p>
X-ALT-DESC;FMTTYPE=text/html:<p align="center" style="text-align: left;"><b>REGULAR MEETING OF THE</b></p><p align="center" style="text-align: left;"><b>EL SEGUNDO PUBLIC WORKS/ENVIRONMENTAL COMMITTEE</b></p><p align="center" style="text-align: left;"><b>Friday, April 1, 2022 – 12:00 P.M.</b></p><h4 style="text-align: left;"><sub>DUE TO THE COVID-19 EMERGENCY</sub></h4><h4 style="text-align: left;"><sub>THIS MEETING WILL BE CONDUCTED</sub></h4><h4 style="text-align: left;"><sub>PURSUANT TO THE GOVERNOR’S</sub></h4><h4 style="text-align: left;"><sub>EXECUTIVE ORDER N-29-20</sub></h4><p><a href="https://us06web.zoom.us/j/94859632902?pwd=LzRFYTg2cVA3cmhrTTEzOWVhcVBHQT09">https://us06web.zoom.us/j/94859632902?pwd=LzRFYTg2cVA3cmhrTTEzOWVhcVBHQT09</a></p><p>Meeting ID: 948 5963 2902</p><p>Passcode: 457632</p><p><b>How Can Members of the Public Observe and Provide Public Comments?</b></p><p>Members of the Public are encouraged to participate remotely in the virtual Public Works/Environmental Committee Meeting per the Zoom information listed above and may reach out to Director Elias Sassoon via phone at 310-524-2356 or email at <a href="mailto:&#101;&#115;&#97;&#115;&#115;&#111;&#111;&#110;&#64;&#101;&#108;&#115;&#101;&#103;&#117;&#110;&#100;&#111;&#46;&#111;&#114;&#103;">esassoon@elsegundo.org</a> for support with connectivity. Members of the Public may provide comments live via Zoom during the Public Communications item, or submit them electronically to Director Elias Sassoon via email at <a href="mailto:&#101;&#115;&#97;&#115;&#115;&#111;&#111;&#110;&#64;&#101;&#108;&#115;&#101;&#103;&#117;&#110;&#100;&#111;&#46;&#111;&#114;&#103;">esassoon@elsegundo.org</a>, with a limit of 150 words and accepted up until 30 minutes prior to the meeting. The emails will be read to the Public Works/Environmental Committee during public communications and are subject to disclosure under the Public Records Act.</p><p>&nbsp;</p><p><b>Additional Information</b></p><p> The Public Works/Environmental Committee<b>,</b> with certain statutory exceptions, can only take action upon properly posted and listed agenda items. Unless otherwise noted in the Agenda, the public can only comment on City-related business that is within the subject matter jurisdiction of the Public Works/Environmental Committee<b>, </b>and items listed on the Agenda during the <b>Public Communications</b> portion of the meeting.</p><p>&nbsp;</p><p><strong>AGENDA&nbsp;&nbsp;<span style="text-decoration: underline;"><a href="https://content.govdelivery.com/attachments/CAELSEGUNDO/2022/03/28/file_attachments/2115712/Environmental%20Committee%20-%20Agenda%20-%20April%201,%202022.pdf" target="_blank" id="AGENDA">ENVIRONMENTAL COMMITTEE AGENDA APRIL 1, 2022</a></span></strong></p><p><strong><a href="https://www.elsegundo.gov/home/showpublisheddocument/5208/637841449192100000" target="_blank">MINUTES March 4, 2022</a></strong></p>
LOCATION:El Segundo City Hall\, 350 Main Street El Segundo\, California 90245
CLASS:PUBLIC
END:VEVENT
END:VCALENDAR
