BEGIN:VCALENDAR
VERSION:2.0
PRODID:El Segundo Calendar Creator
METHOD:PUBLISH
BEGIN:VEVENT
DTSTAMP:20220504T093826
DTSTART:20220315T150000
DTEND:20220315T150000
SUMMARY:City Council Meeting SPECIAL (Closed Session)
DESCRIPTION:<p align="center"><strong>EL SEGUNDO CITY COUNCIL SPECIAL</strong></p><p align="center"><strong>CLOSED SESSION MEETING</strong></p><p align="center">HR CONFERENCE ROOM</p><p align="center">350 Main Street</p><p align="center">El Segundo, CA 90245</p><p align="center">&nbsp;</p>
X-ALT-DESC;FMTTYPE=text/html:<p align="center"><strong>EL SEGUNDO CITY COUNCIL SPECIAL</strong></p><p align="center"><strong>CLOSED SESSION MEETING</strong></p><p align="center">HR CONFERENCE ROOM</p><p align="center">350 Main Street</p><p align="center">El Segundo, CA 90245</p><p align="center">&nbsp;</p>
LOCATION:Human Resources Conference Room\, City Hall\, 350 Main Street El Segundo\, California 90245
CLASS:PUBLIC
END:VEVENT
END:VCALENDAR
