BEGIN:VCALENDAR
VERSION:2.0
PRODID:El Segundo Calendar Creator
METHOD:PUBLISH
BEGIN:VEVENT
DTSTAMP:20230105T144726
DTSTART:20230105T180000
DTEND:20230105T190000
SUMMARY:History Committee Meeting -- CANCELLED
DESCRIPTION:<p>The History Committee meets the first Thursday of each month at 6:00 p.m. in the Library's Sue Carter Community Room.&nbsp; Committee members review new acquisitions and determine how to handle them.&nbsp; If you're interested in participating on the History Committee, please come to one of our meetings or <a href="mailto:&#105;&#110;&#102;&#111;&#64;&#101;&#108;&#115;&#101;&#103;&#117;&#110;&#100;&#111;&#104;&#105;&#115;&#116;&#111;&#114;&#121;&#46;&#111;&#114;&#103;">email</a> us.</p><p>&nbsp;</p><p>**PLAESE NOTE: The January 5 History Committee meeting has been cancelled.&nbsp; The next regularly scheduled meeting will be held at 6:00 p.m. on Thursday, February 2**&nbsp;</p>
X-ALT-DESC;FMTTYPE=text/html:<p>The History Committee meets the first Thursday of each month at 6:00 p.m. in the Library's Sue Carter Community Room.&nbsp; Committee members review new acquisitions and determine how to handle them.&nbsp; If you're interested in participating on the History Committee, please come to one of our meetings or <a href="mailto:&#105;&#110;&#102;&#111;&#64;&#101;&#108;&#115;&#101;&#103;&#117;&#110;&#100;&#111;&#104;&#105;&#115;&#116;&#111;&#114;&#121;&#46;&#111;&#114;&#103;">email</a> us.</p><p>&nbsp;</p><p>**PLAESE NOTE: The January 5 History Committee meeting has been cancelled.&nbsp; The next regularly scheduled meeting will be held at 6:00 p.m. on Thursday, February 2**&nbsp;</p>
LOCATION:
CLASS:PUBLIC
END:VEVENT
END:VCALENDAR
