BEGIN:VCALENDAR
VERSION:2.0
PRODID:El Segundo Calendar Creator
METHOD:PUBLISH
BEGIN:VEVENT
DTSTAMP:20220511T102858
DTSTART:20220308T190000
DTEND:20220308T200000
SUMMARY:Library Board of Trustees
DESCRIPTION:<p>The Library Board of Trustees advises the City Council and Library Director on matters of library policy, administration, operation, and service.&nbsp; Members obtain public input, promote the library within the community, and assist with special initiatives.&nbsp; The Board meets on the second Tuesday of the month, on a bi-monthly basis, January, March, May, July, September, and November.</p><p>Join Zoom Meeting</p><p><a href="http://" target="_blank">https://us06web.zoom.us/j/88574728478?pwd=MmFLUDQrWmNRSnpJMEcwcGZpSSs3QT09</a></p><p>Meeting ID:885 7472 8478<br>Passcode:030272<br>One tap mobile 1-346-248-7799</p><p>For any questions or additional information, please contact Mark Herbert at 310-524-2732 or email at mherbert@elsegundo.org</p><p>&nbsp;</p><p>&nbsp;</p>
X-ALT-DESC;FMTTYPE=text/html:<p>The Library Board of Trustees advises the City Council and Library Director on matters of library policy, administration, operation, and service.&nbsp; Members obtain public input, promote the library within the community, and assist with special initiatives.&nbsp; The Board meets on the second Tuesday of the month, on a bi-monthly basis, January, March, May, July, September, and November.</p><p>Join Zoom Meeting</p><p><a href="http://" target="_blank">https://us06web.zoom.us/j/88574728478?pwd=MmFLUDQrWmNRSnpJMEcwcGZpSSs3QT09</a></p><p>Meeting ID:885 7472 8478<br>Passcode:030272<br>One tap mobile 1-346-248-7799</p><p>For any questions or additional information, please contact Mark Herbert at 310-524-2732 or email at mherbert@elsegundo.org</p><p>&nbsp;</p><p>&nbsp;</p>
LOCATION:El Segundo Public Library\, 111 W. Mariposa Avenue El Segundo\, California 90245
CLASS:PUBLIC
END:VEVENT
END:VCALENDAR
