BEGIN:VCALENDAR
VERSION:2.0
PRODID:El Segundo Calendar Creator
METHOD:PUBLISH
BEGIN:VEVENT
DTSTAMP:20220425T160554
DTSTART:20220507T100000
DTEND:20220507T150000
SUMMARY:Hometown Fair and Carnival
DESCRIPTION:Join us for the Annual Hometown Fair and Carnival on the 600 Block of N. Main Street in El Segundo. The special event will include entertainment from local talent, carnival rides, and a community expo. The Bake-Off event will award prizes to winners in various categories. Entries for the Bake-Off will be due between 10:00am to 11:00am, with winners being announced at 1:00pm. El Segundo High School groups are coordinating food booths and game booths in efforts to fundraise for their clubs. A variety of vendors will be selling one-of-a-kind handmade crafts, while the El Segundo Police Department and El Segundo Non-Profit groups will participate in the event to provide information about their organizations and programs.&nbsp;
X-ALT-DESC;FMTTYPE=text/html:Join us for the Annual Hometown Fair and Carnival on the 600 Block of N. Main Street in El Segundo. The special event will include entertainment from local talent, carnival rides, and a community expo. The Bake-Off event will award prizes to winners in various categories. Entries for the Bake-Off will be due between 10:00am to 11:00am, with winners being announced at 1:00pm. El Segundo High School groups are coordinating food booths and game booths in efforts to fundraise for their clubs. A variety of vendors will be selling one-of-a-kind handmade crafts, while the El Segundo Police Department and El Segundo Non-Profit groups will participate in the event to provide information about their organizations and programs.&nbsp;
LOCATION:600 Block of N. Main Street\, 
CLASS:PUBLIC
END:VEVENT
END:VCALENDAR
