BEGIN:VCALENDAR
VERSION:2.0
PRODID:El Segundo Calendar Creator
METHOD:PUBLISH
BEGIN:VEVENT
DTSTAMP:20220321T201025
DTSTART:20220329T150000
DTEND:20220329T160000
SUMMARY:Home Tweet Home craft session
DESCRIPTION:<p direction-ltr="" align-center="" para-style-body"="">Families are welcome to join us for our "Home Tweet Home" craft program that will feature the decoration of birdhouses for our feathered friends. An additional Nature Collage frame project will be offered for adults. Materials are provided.&nbsp; The session will be held in the downstairs Sue Carter Community Room.&nbsp;&nbsp;Call the reference desk for more information.&nbsp;&nbsp;</p>
X-ALT-DESC;FMTTYPE=text/html:<p direction-ltr="" align-center="" para-style-body"="">Families are welcome to join us for our "Home Tweet Home" craft program that will feature the decoration of birdhouses for our feathered friends. An additional Nature Collage frame project will be offered for adults. Materials are provided.&nbsp; The session will be held in the downstairs Sue Carter Community Room.&nbsp;&nbsp;Call the reference desk for more information.&nbsp;&nbsp;</p>
LOCATION:El Segundo Public Library\, 111 W. Mariposa Avenue El Segundo\, California 90245
CLASS:PUBLIC
END:VEVENT
END:VCALENDAR
