BEGIN:VCALENDAR
VERSION:2.0
PRODID:El Segundo Calendar Creator
METHOD:PUBLISH
BEGIN:VEVENT
DTSTAMP:20220504T184820
DTSTART:20220521T130000
DTEND:20220521T150000
SUMMARY:It's So Easy: A Linda Ronstadt Tribute
DESCRIPTION:Lisa Margaroli returns to El Segundo with her Linda Ronstadt tribute: IT'S SO EASY.&nbsp; BYO blanket and picnic and enjoy this FREE concert of unforgettable hits performed with her talented band.
X-ALT-DESC;FMTTYPE=text/html:Lisa Margaroli returns to El Segundo with her Linda Ronstadt tribute: IT'S SO EASY.&nbsp; BYO blanket and picnic and enjoy this FREE concert of unforgettable hits performed with her talented band.
LOCATION:Library Park\, 600 Block of Main Street El Segundo\, California 90245
CLASS:PUBLIC
END:VEVENT
END:VCALENDAR
