BEGIN:VCALENDAR
VERSION:2.0
PRODID:El Segundo Calendar Creator
METHOD:PUBLISH
BEGIN:VEVENT
DTSTAMP:20220305T091956
DTSTART:20220309T183000
DTEND:20220309T200000
SUMMARY:Living Library Talk with EDAR founder Peter Samuelson
DESCRIPTION:<p>The Living Library collaboration between the El Segundo Public Library and ESMoA returns with our Living Book Peter Samuelson speaking about “EDAR - Everyone Deserves a Roof” in the Reading Lounge of the library. Peter Samuelson is a pro-social entrepreneur, and founder of EDAR, providing short-term, immediate mobile shelters to people experiencing homelessness. An EDAR will be on display. There will be time to have a dialogue with Mr. Samuelson.&nbsp;</p>
X-ALT-DESC;FMTTYPE=text/html:<p>The Living Library collaboration between the El Segundo Public Library and ESMoA returns with our Living Book Peter Samuelson speaking about “EDAR - Everyone Deserves a Roof” in the Reading Lounge of the library. Peter Samuelson is a pro-social entrepreneur, and founder of EDAR, providing short-term, immediate mobile shelters to people experiencing homelessness. An EDAR will be on display. There will be time to have a dialogue with Mr. Samuelson.&nbsp;</p>
LOCATION:El Segundo Public Library\, 111 W. Mariposa Avenue El Segundo\, California 90245
CLASS:PUBLIC
END:VEVENT
END:VCALENDAR
