BEGIN:VCALENDAR
VERSION:2.0
PRODID:El Segundo Calendar Creator
METHOD:PUBLISH
BEGIN:VEVENT
DTSTAMP:20220217T104811
DTSTART:20220222T173000
DTEND:20220222T200000
SUMMARY:Arts and Culture Advisory Committee Regular Meeting
DESCRIPTION:<p>The Arts and Culture Advisory Committee Regular Meeting will take place via Zoom. For further information, or for the Zoom link, please contact Senior Librarian Julie Todd at <a href="mailto:&#106;&#116;&#111;&#100;&#100;&#64;&#101;&#108;&#115;&#101;&#103;&#117;&#110;&#100;&#111;&#46;&#111;&#114;&#103;">jtodd@elsegundo.org</a> or 310-524-2729.</p><p>&nbsp;For Minutes from the Arts and Culture Advisory Committee's Regular Meeting on January 25, 2022, please click <a href="https://www.elsegundo.gov/home/showpublisheddocument/5022/637806910636030000" target="_blank">here</a>.</p>
X-ALT-DESC;FMTTYPE=text/html:<p>The Arts and Culture Advisory Committee Regular Meeting will take place via Zoom. For further information, or for the Zoom link, please contact Senior Librarian Julie Todd at <a href="mailto:&#106;&#116;&#111;&#100;&#100;&#64;&#101;&#108;&#115;&#101;&#103;&#117;&#110;&#100;&#111;&#46;&#111;&#114;&#103;">jtodd@elsegundo.org</a> or 310-524-2729.</p><p>&nbsp;For Minutes from the Arts and Culture Advisory Committee's Regular Meeting on January 25, 2022, please click <a href="https://www.elsegundo.gov/home/showpublisheddocument/5022/637806910636030000" target="_blank">here</a>.</p>
LOCATION:El Segundo Public Library\, 111 W. Mariposa Avenue El Segundo\, California 90245
CLASS:PUBLIC
END:VEVENT
END:VCALENDAR
