BEGIN:VCALENDAR
VERSION:2.0
PRODID:El Segundo Calendar Creator
METHOD:PUBLISH
BEGIN:VEVENT
DTSTAMP:20220222T120516
DTSTART:20220325T200000
DTEND:20220325T220000
SUMMARY:Star Party
DESCRIPTION:Come join us for a night under the stars! Telescopes will be provided by the South Bay Astronomical society or you can bring your own! There will also be an "out-of-this-world" costume contest and scavenger hunt with prizes. You can view the flyer <a href="https://www.elsegundo.gov/home/showpublisheddocument/5018/637806891055370000" target="_blank">here</a>.
X-ALT-DESC;FMTTYPE=text/html:Come join us for a night under the stars! Telescopes will be provided by the South Bay Astronomical society or you can bring your own! There will also be an "out-of-this-world" costume contest and scavenger hunt with prizes. You can view the flyer <a href="https://www.elsegundo.gov/home/showpublisheddocument/5018/637806891055370000" target="_blank">here</a>.
LOCATION:Hilltop Parking lot\, Corner of Grand and Maryland 
CLASS:PUBLIC
END:VEVENT
END:VCALENDAR
