BEGIN:VCALENDAR
VERSION:2.0
PRODID:El Segundo Calendar Creator
METHOD:PUBLISH
BEGIN:VEVENT
DTSTAMP:20220504T095715
DTSTART:20220210T170000
DTEND:20220210T170000
SUMMARY:City Council Meeting SPECIAL (Closed Session)
DESCRIPTION:&nbsp;<p align="center"><b>EL SEGUNDO CITY COUNCIL</b></p><p align="center"><b>CLOSED SESSION</b></p><p align="center">HR CONFERENCE ROOM</p><p align="center">350 Main Street</p><p align="center">El Segundo, CA 90245</p><p align="center">&nbsp;</p><p align="center" style="text-align: left;"><strong>Agenda Packet:&nbsp;</strong>n/a<br><strong>Additional Information:<br></strong><strong>Public Communication:<br></strong><strong>Presentations:&nbsp;</strong>n/a<strong><br></strong><strong>Video:&nbsp;</strong>n/a</p><p align="center">&nbsp;</p>
X-ALT-DESC;FMTTYPE=text/html:&nbsp;<p align="center"><b>EL SEGUNDO CITY COUNCIL</b></p><p align="center"><b>CLOSED SESSION</b></p><p align="center">HR CONFERENCE ROOM</p><p align="center">350 Main Street</p><p align="center">El Segundo, CA 90245</p><p align="center">&nbsp;</p><p align="center" style="text-align: left;"><strong>Agenda Packet:&nbsp;</strong>n/a<br><strong>Additional Information:<br></strong><strong>Public Communication:<br></strong><strong>Presentations:&nbsp;</strong>n/a<strong><br></strong><strong>Video:&nbsp;</strong>n/a</p><p align="center">&nbsp;</p>
LOCATION:El Segundo City Hall\, 350 Main Street El Segundo\, California 90245
CLASS:PUBLIC
END:VEVENT
END:VCALENDAR
