BEGIN:VCALENDAR
VERSION:2.0
PRODID:El Segundo Calendar Creator
METHOD:PUBLISH
BEGIN:VEVENT
DTSTAMP:20220620T080100
DTSTART:20220629T183000
DTEND:20220629T193000
SUMMARY:Evening Book Club
DESCRIPTION:<p>The Evening Book Club meets monthly on Zoom.&nbsp; Books are available first come, first serve at the Reference Desk.&nbsp; Books are also available in ebook format to download through the library's website.&nbsp; Please call the reference desk at 310-524-2728 (email refdesk@elsegundo.org) for title of chosen book and Zoom link.</p>
X-ALT-DESC;FMTTYPE=text/html:<p>The Evening Book Club meets monthly on Zoom.&nbsp; Books are available first come, first serve at the Reference Desk.&nbsp; Books are also available in ebook format to download through the library's website.&nbsp; Please call the reference desk at 310-524-2728 (email refdesk@elsegundo.org) for title of chosen book and Zoom link.</p>
LOCATION:
CLASS:PUBLIC
END:VEVENT
END:VCALENDAR
