BEGIN:VCALENDAR
VERSION:2.0
PRODID:El Segundo Calendar Creator
METHOD:PUBLISH
BEGIN:VEVENT
DTSTAMP:20220210T111101
DTSTART:20220223T153000
DTEND:20220223T163000
SUMMARY:The Sunshine Storyteller
DESCRIPTION:<h2>The Sunshine Storyteller<br>Talking Drums</h2><p>Join us as we celebrate Black History Month with Ina Buckner Barnett, The Sunshine Storyteller in her performance of "Talking Drums" outside in Library Park!&nbsp;Please bring a blanket to sit on.&nbsp;</p>
X-ALT-DESC;FMTTYPE=text/html:<h2>The Sunshine Storyteller<br>Talking Drums</h2><p>Join us as we celebrate Black History Month with Ina Buckner Barnett, The Sunshine Storyteller in her performance of "Talking Drums" outside in Library Park!&nbsp;Please bring a blanket to sit on.&nbsp;</p>
LOCATION:Library Park\, 600 Block of Main Street El Segundo\, California 90245
CLASS:PUBLIC
END:VEVENT
END:VCALENDAR
