BEGIN:VCALENDAR
VERSION:2.0
PRODID:El Segundo Calendar Creator
METHOD:PUBLISH
BEGIN:VEVENT
DTSTAMP:20220222T120423
DTSTART:20220305T100000
DTEND:20220305T120000
SUMMARY:Start With Art
DESCRIPTION:Saturday, March 5th<br>10am-12pm<br>@Sue Carter Community Room<br>Join us for fun age appropriate crafts!
X-ALT-DESC;FMTTYPE=text/html:Saturday, March 5th<br>10am-12pm<br>@Sue Carter Community Room<br>Join us for fun age appropriate crafts!
LOCATION:El Segundo Public Library\, 111 W. Mariposa Avenue El Segundo\, California 90245
CLASS:PUBLIC
END:VEVENT
END:VCALENDAR
