BEGIN:VCALENDAR
VERSION:2.0
PRODID:El Segundo Calendar Creator
METHOD:PUBLISH
BEGIN:VEVENT
DTSTAMP:20220202T082558
DTSTART:20220202T180000
DTEND:20220202T180000
SUMMARY:City Council Meeting - Closed (Adjournment & Continuance of Feb 1, 2022 Meeting)
DESCRIPTION:<strong>Order of Adjournment to Closed Session:&nbsp;<a href="https://docs.elsegundo.org/WebLink/DocView.aspx?id=1162604&amp;dbid=0&amp;repo=COES" target="_blank">2022-02-01 CC Agenda - ADJ &amp; Continue to February 2, 2022, 6:00PM</a></strong>
X-ALT-DESC;FMTTYPE=text/html:<strong>Order of Adjournment to Closed Session:&nbsp;<a href="https://docs.elsegundo.org/WebLink/DocView.aspx?id=1162604&amp;dbid=0&amp;repo=COES" target="_blank">2022-02-01 CC Agenda - ADJ &amp; Continue to February 2, 2022, 6:00PM</a></strong>
LOCATION:Human Resources Conference Room\, City Hall\, 350 Main Street El Segundo\, California 90245
CLASS:PUBLIC
END:VEVENT
END:VCALENDAR
