BEGIN:VCALENDAR
VERSION:2.0
PRODID:El Segundo Calendar Creator
METHOD:PUBLISH
BEGIN:VEVENT
DTSTAMP:20220224T143446
DTSTART:20220125T143000
DTEND:20220125T143000
SUMMARY:City Council Meeting SPECIAL (Closed Session)
DESCRIPTION:<p align="center">DUE TO THE COVID-19 EMERGENCY,<br>THIS&nbsp;MEETING WILL BE CONDUCTED PURSUANT TO THE GOVERNOR’S EXECUTIVE ORDER N-29-20.</p><p align="center"><strong>MEETING ID:&nbsp;<span style="text-align: left;">839 3741 4702</span></strong></p><p align="center"><strong>PIN: 274966</strong></p><p align="center">&nbsp;<i>PUBLIC ADVISORY:</i></p><p align="center"><i>THIS MEETING WILL BE CONDUCTED VIRTUALLY&nbsp;</i></p><p align="center"><i>CITY COUNCIL CHAMBER&nbsp;WILL NOT BE OPEN&nbsp;TO THE PUBLIC</i></p>
X-ALT-DESC;FMTTYPE=text/html:<p align="center">DUE TO THE COVID-19 EMERGENCY,<br>THIS&nbsp;MEETING WILL BE CONDUCTED PURSUANT TO THE GOVERNOR’S EXECUTIVE ORDER N-29-20.</p><p align="center"><strong>MEETING ID:&nbsp;<span style="text-align: left;">839 3741 4702</span></strong></p><p align="center"><strong>PIN: 274966</strong></p><p align="center">&nbsp;<i>PUBLIC ADVISORY:</i></p><p align="center"><i>THIS MEETING WILL BE CONDUCTED VIRTUALLY&nbsp;</i></p><p align="center"><i>CITY COUNCIL CHAMBER&nbsp;WILL NOT BE OPEN&nbsp;TO THE PUBLIC</i></p>
LOCATION:
CLASS:PUBLIC
END:VEVENT
END:VCALENDAR
