BEGIN:VCALENDAR
VERSION:2.0
PRODID:El Segundo Calendar Creator
METHOD:PUBLISH
BEGIN:VEVENT
DTSTAMP:20220112T123204
DTSTART:20220112T150000
DTEND:20220112T150000
SUMMARY:City Council Meeting SPECIAL - Canceled
DESCRIPTION:
X-ALT-DESC;FMTTYPE=text/html:
LOCATION:El Segundo Police Department\, 348 Main Street El Segundo\, California 90245
CLASS:PUBLIC
END:VEVENT
END:VCALENDAR
