BEGIN:VCALENDAR
VERSION:2.0
PRODID:El Segundo Calendar Creator
METHOD:PUBLISH
BEGIN:VEVENT
DTSTAMP:20211229T164739
DTSTART:20220802T180000
DTEND:20220802T180000
SUMMARY:City Council Meeting - CANCELED
DESCRIPTION:&nbsp;
X-ALT-DESC;FMTTYPE=text/html:&nbsp;
LOCATION:
CLASS:PUBLIC
END:VEVENT
END:VCALENDAR
