BEGIN:VCALENDAR
VERSION:2.0
PRODID:El Segundo Calendar Creator
METHOD:PUBLISH
BEGIN:VEVENT
DTSTAMP:20220622T110110
DTSTART:20220607T180000
DTEND:20220607T180000
SUMMARY:City Council Meeting
DESCRIPTION:<p style="text-align: center;"><strong>EL SEGUNDO CITY COUNCIL<br>REGULAR MEETING<br>TUESDAY, JUNE 7, 2022 at 6:00 PM</strong></p><p style="text-align: center;"><span style="color: rgb(255, 0, 0);">THE CITY COUNCIL CHAMBER IS NOW OPEN TO THE PUBLIC</span></p><p><strong>&nbsp;</strong></p><p><strong>Order of Adjournment: </strong><a href="https://docs.elsegundo.org/WebLink/DocView.aspx?id=1176903&amp;dbid=0&amp;repo=COES" target="_blank" id="Adjournment"><span style="text-decoration: underline;">2022-06-07 CC Agenda - Closed Session - ADJ</span></a></p><p><strong>Agenda Packet:&nbsp;<a href="https://www.elsegundo.gov/home/showpublisheddocument/5527/637898439369900000" target="_blank" id="June 7, 2022 City Council Agenda Packet"></a></strong><a href="https://www.elsegundo.gov/home/showpublisheddocument/5527/637898439369900000" target="_blank" id="June 7, 2022 City Council Agenda Packet">2022-06-07 CC Agenda Packet</a></p><p><strong>Presentations:</strong></p><p><a href="https://docs.elsegundo.org/WebLink/DocView.aspx?id=1176904&amp;dbid=0&amp;repo=COES" target="_blank" id="Presentation"><span style="text-decoration: underline;">2022-06-07 CC Agenda - Presentation - Item # 9 - Fee Study</span></a></p><p><span style="text-decoration: underline;"><a href="https://docs.elsegundo.org/WebLink/DocView.aspx?id=1176905&amp;dbid=0&amp;repo=COES" target="_blank" id="Presentation">2022-06-07 CC Agenda - Presentation - Cannabis Buffer Map</a></span></p><p><strong>Public Communication:</strong></p><p><a href="https://docs.elsegundo.org/WebLink/DocView.aspx?id=1176900&amp;dbid=0&amp;repo=COES" target="_blank" id="Public Communications"><span style="text-decoration: underline;">2022-06-07 CC Agenda - Public Communications related to Cannabis Initiative</span></a></p><p><a href="https://docs.elsegundo.org/WebLink/DocView.aspx?id=1176902&amp;dbid=0&amp;repo=COES" target="_blank" id="Public Communications"><span style="text-decoration: underline;">2022-06-07 CC Agenda - Public Communications related to Item #14 - Aquatics Center</span></a></p><p><strong>Video:</strong></p><p><a href="https://elsegundo.granicus.com/MediaPlayer.php?view_id=10&amp;clip_id=4503" target="_blank" id="Video"><span style="text-decoration: underline;">June 7, 2022 City Council Meeting Video</span></a></p>
X-ALT-DESC;FMTTYPE=text/html:<p style="text-align: center;"><strong>EL SEGUNDO CITY COUNCIL<br>REGULAR MEETING<br>TUESDAY, JUNE 7, 2022 at 6:00 PM</strong></p><p style="text-align: center;"><span style="color: rgb(255, 0, 0);">THE CITY COUNCIL CHAMBER IS NOW OPEN TO THE PUBLIC</span></p><p><strong>&nbsp;</strong></p><p><strong>Order of Adjournment: </strong><a href="https://docs.elsegundo.org/WebLink/DocView.aspx?id=1176903&amp;dbid=0&amp;repo=COES" target="_blank" id="Adjournment"><span style="text-decoration: underline;">2022-06-07 CC Agenda - Closed Session - ADJ</span></a></p><p><strong>Agenda Packet:&nbsp;<a href="https://www.elsegundo.gov/home/showpublisheddocument/5527/637898439369900000" target="_blank" id="June 7, 2022 City Council Agenda Packet"></a></strong><a href="https://www.elsegundo.gov/home/showpublisheddocument/5527/637898439369900000" target="_blank" id="June 7, 2022 City Council Agenda Packet">2022-06-07 CC Agenda Packet</a></p><p><strong>Presentations:</strong></p><p><a href="https://docs.elsegundo.org/WebLink/DocView.aspx?id=1176904&amp;dbid=0&amp;repo=COES" target="_blank" id="Presentation"><span style="text-decoration: underline;">2022-06-07 CC Agenda - Presentation - Item # 9 - Fee Study</span></a></p><p><span style="text-decoration: underline;"><a href="https://docs.elsegundo.org/WebLink/DocView.aspx?id=1176905&amp;dbid=0&amp;repo=COES" target="_blank" id="Presentation">2022-06-07 CC Agenda - Presentation - Cannabis Buffer Map</a></span></p><p><strong>Public Communication:</strong></p><p><a href="https://docs.elsegundo.org/WebLink/DocView.aspx?id=1176900&amp;dbid=0&amp;repo=COES" target="_blank" id="Public Communications"><span style="text-decoration: underline;">2022-06-07 CC Agenda - Public Communications related to Cannabis Initiative</span></a></p><p><a href="https://docs.elsegundo.org/WebLink/DocView.aspx?id=1176902&amp;dbid=0&amp;repo=COES" target="_blank" id="Public Communications"><span style="text-decoration: underline;">2022-06-07 CC Agenda - Public Communications related to Item #14 - Aquatics Center</span></a></p><p><strong>Video:</strong></p><p><a href="https://elsegundo.granicus.com/MediaPlayer.php?view_id=10&amp;clip_id=4503" target="_blank" id="Video"><span style="text-decoration: underline;">June 7, 2022 City Council Meeting Video</span></a></p>
LOCATION:City Council Chamber\, 350 Main Street El Segundo\, California 90245
CLASS:PUBLIC
END:VEVENT
END:VCALENDAR
