BEGIN:VCALENDAR
VERSION:2.0
PRODID:El Segundo Calendar Creator
METHOD:PUBLISH
BEGIN:VEVENT
DTSTAMP:20220615T111157
DTSTART:20220517T180000
DTEND:20220517T180000
SUMMARY:City Council Meeting
DESCRIPTION:<p style="text-align: center;">EL SEGUNDO CITY COUNCIL<br>REGULAR MEETING<br>TUESDAY, MAY 03, 2022</p><p style="text-align: center;"><span style="color: rgb(255, 0, 0);">THE CITY COUNCIL CHAMBER IS NOW OPEN TO THE PUBLIC</span></p><p style="text-align: left;"><span style="color: rgb(255, 0, 0);"><span style="color: rgb(0, 0, 0);"><strong>Agenda Packet:</strong><a href="https://www.elsegundo.gov/home/showpublisheddocument/5361/637879632593130000" target="_blank" id="Agenda Packet">&nbsp;2022-05-12 CC Agenda Packet&nbsp;</a></span></span></p><p style="text-align: left;"><span style="color: rgb(255, 0, 0);"><span style="color: rgb(0, 0, 0);"><strong>Public Communication:</strong></span></span></p><p style="text-align: left;"><span style="color: rgb(255, 0, 0);"><span style="color: rgb(0, 0, 0);">&nbsp;<a href="https://docs.elsegundo.org/WebLink/DocView.aspx?id=1176781&amp;dbid=0&amp;repo=COES" target="_blank">2022-05-17 CC Agenda - Public Communication related to Item E15 - Park Vista</a></span></span></p><p style="text-align: left;"><span style="color: rgb(255, 0, 0);"><span style="color: rgb(0, 0, 0);"><strong>Video:</strong></span></span></p><p style="text-align: left;"><span style="color: rgb(255, 0, 0);"><span style="color: rgb(0, 0, 0);"><a href="https://elsegundo.granicus.com/MediaPlayer.php?view_id=10&amp;clip_id=4497" target="_blank">May 17, 2022 City Council Meeting Video</a></span></span></p>
X-ALT-DESC;FMTTYPE=text/html:<p style="text-align: center;">EL SEGUNDO CITY COUNCIL<br>REGULAR MEETING<br>TUESDAY, MAY 03, 2022</p><p style="text-align: center;"><span style="color: rgb(255, 0, 0);">THE CITY COUNCIL CHAMBER IS NOW OPEN TO THE PUBLIC</span></p><p style="text-align: left;"><span style="color: rgb(255, 0, 0);"><span style="color: rgb(0, 0, 0);"><strong>Agenda Packet:</strong><a href="https://www.elsegundo.gov/home/showpublisheddocument/5361/637879632593130000" target="_blank" id="Agenda Packet">&nbsp;2022-05-12 CC Agenda Packet&nbsp;</a></span></span></p><p style="text-align: left;"><span style="color: rgb(255, 0, 0);"><span style="color: rgb(0, 0, 0);"><strong>Public Communication:</strong></span></span></p><p style="text-align: left;"><span style="color: rgb(255, 0, 0);"><span style="color: rgb(0, 0, 0);">&nbsp;<a href="https://docs.elsegundo.org/WebLink/DocView.aspx?id=1176781&amp;dbid=0&amp;repo=COES" target="_blank">2022-05-17 CC Agenda - Public Communication related to Item E15 - Park Vista</a></span></span></p><p style="text-align: left;"><span style="color: rgb(255, 0, 0);"><span style="color: rgb(0, 0, 0);"><strong>Video:</strong></span></span></p><p style="text-align: left;"><span style="color: rgb(255, 0, 0);"><span style="color: rgb(0, 0, 0);"><a href="https://elsegundo.granicus.com/MediaPlayer.php?view_id=10&amp;clip_id=4497" target="_blank">May 17, 2022 City Council Meeting Video</a></span></span></p>
LOCATION:City Council Chamber\, 350 Main Street El Segundo\, California 90245
CLASS:PUBLIC
END:VEVENT
END:VCALENDAR
