BEGIN:VCALENDAR
VERSION:2.0
PRODID:El Segundo Calendar Creator
METHOD:PUBLISH
BEGIN:VEVENT
DTSTAMP:20220518T094733
DTSTART:20220503T180000
DTEND:20220503T180000
SUMMARY:City Council Meeting
DESCRIPTION:<p style="text-align: center;"><strong>EL SEGUNDO CITY COUNCIL<br>REGULAR MEETING<br>TUESDAY, MAY 03, 2022</strong></p><p style="text-align: center;"><span style="color: rgb(255, 0, 0);">THE CITY COUNCIL CHAMBER IS NOW OPEN TO THE PUBLIC</span></p><p style="text-align: left;"><span style="color: rgb(89, 89, 89);"><strong>Agenda Packet</strong>:<strong> <a href="https://www.elsegundo.org/home/showdocument?id=5285" target="_blank" id="Agenda Packet">2022-05-03 CC Agenda Packet</a></strong></span></p><p style="text-align: left;"> <a href="https://www.elsegundo.gov/home/showpublisheddocument/5291/637871774337030000" target="_blank" id="Agenda Packet - Staff Report #7"><span style="text-decoration: underline;"><strong>2022-05-03 CC Agenda Packet - Item #7 - Warrants Staff Report</strong></span></a></p><p style="text-align: left;"><a href="https://www.elsegundo.gov/home/showpublisheddocument/5289/637871774137970000" target="_blank" id="Agenda Packet - Staff report #21"><span style="text-decoration: underline;"><strong>2022-05-03 CC Agenda Packet - Item #21 - Formation of Subcommittee to Study Establishing a Sister City - Staff Report&nbsp;</strong></span></a></p><p style="text-align: left;"><strong>Presentation:</strong></p><p style="text-align: left;"><strong><a href="https://docs.elsegundo.org/WebLink/DocView.aspx?id=1176700&amp;dbid=0&amp;repo=COES" target="_blank">2022-05-03 CC Agenda - Presentation - Item #09 - Local Travel Network</a></strong></p><p style="text-align: left;"><a href="https://docs.elsegundo.org/WebLink/DocView.aspx?id=1176718&amp;dbid=0&amp;repo=COES" target="_blank"><strong>2022-05-03 CC Agenda - Presentation - Item #18 - Resident and Business Survey Results</strong></a></p><p style="text-align: left;"><strong>Video:&nbsp;</strong></p><p style="text-align: left;"><strong><a href="https://elsegundo.granicus.com/MediaPlayer.php?view_id=10&amp;clip_id=4492" target="_blank">May 3, 2022 City Council Meeting Video</a></strong></p>
X-ALT-DESC;FMTTYPE=text/html:<p style="text-align: center;"><strong>EL SEGUNDO CITY COUNCIL<br>REGULAR MEETING<br>TUESDAY, MAY 03, 2022</strong></p><p style="text-align: center;"><span style="color: rgb(255, 0, 0);">THE CITY COUNCIL CHAMBER IS NOW OPEN TO THE PUBLIC</span></p><p style="text-align: left;"><span style="color: rgb(89, 89, 89);"><strong>Agenda Packet</strong>:<strong> <a href="https://www.elsegundo.org/home/showdocument?id=5285" target="_blank" id="Agenda Packet">2022-05-03 CC Agenda Packet</a></strong></span></p><p style="text-align: left;"> <a href="https://www.elsegundo.gov/home/showpublisheddocument/5291/637871774337030000" target="_blank" id="Agenda Packet - Staff Report #7"><span style="text-decoration: underline;"><strong>2022-05-03 CC Agenda Packet - Item #7 - Warrants Staff Report</strong></span></a></p><p style="text-align: left;"><a href="https://www.elsegundo.gov/home/showpublisheddocument/5289/637871774137970000" target="_blank" id="Agenda Packet - Staff report #21"><span style="text-decoration: underline;"><strong>2022-05-03 CC Agenda Packet - Item #21 - Formation of Subcommittee to Study Establishing a Sister City - Staff Report&nbsp;</strong></span></a></p><p style="text-align: left;"><strong>Presentation:</strong></p><p style="text-align: left;"><strong><a href="https://docs.elsegundo.org/WebLink/DocView.aspx?id=1176700&amp;dbid=0&amp;repo=COES" target="_blank">2022-05-03 CC Agenda - Presentation - Item #09 - Local Travel Network</a></strong></p><p style="text-align: left;"><a href="https://docs.elsegundo.org/WebLink/DocView.aspx?id=1176718&amp;dbid=0&amp;repo=COES" target="_blank"><strong>2022-05-03 CC Agenda - Presentation - Item #18 - Resident and Business Survey Results</strong></a></p><p style="text-align: left;"><strong>Video:&nbsp;</strong></p><p style="text-align: left;"><strong><a href="https://elsegundo.granicus.com/MediaPlayer.php?view_id=10&amp;clip_id=4492" target="_blank">May 3, 2022 City Council Meeting Video</a></strong></p>
LOCATION:City Council Chamber\, 350 Main Street El Segundo\, California 90245
CLASS:PUBLIC
END:VEVENT
END:VCALENDAR
