BEGIN:VCALENDAR
VERSION:2.0
PRODID:El Segundo Calendar Creator
METHOD:PUBLISH
BEGIN:VEVENT
DTSTAMP:20220224T143139
DTSTART:20211214T133000
DTEND:20211214T133000
SUMMARY:City Council Meeting SPECIAL (Closed Session)
DESCRIPTION:<p align="center"><b>SPECIAL MEETING AGENDA</b></p><p align="center"><b>EL SEGUNDO CITY COUNCIL</b></p><p align="center"><b>1:30 PM SPECIAL SESSION</b></p><p align="center"><b>TUESDAY DECEMBER 14, 2021</b></p><p>&nbsp;</p><p align="center"><b>CLOSED SESSION</b></p><p align="center">WEST CONFERENCE ROOM</p><p align="center">350 Main Street</p><p align="center">El Segundo, CA 90245</p><p align="center" style="text-align: left;"><strong>Agenda Packet: </strong>n/a<br><strong>Additional Information:<br></strong><strong>Public Communication:<br></strong><strong>Presentations: </strong>n/a<strong><br></strong><strong>Video: </strong>n/a</p><p align="center" style="text-align: left;">&nbsp;</p><p align="center" style="text-align: left;">&nbsp;</p>
X-ALT-DESC;FMTTYPE=text/html:<p align="center"><b>SPECIAL MEETING AGENDA</b></p><p align="center"><b>EL SEGUNDO CITY COUNCIL</b></p><p align="center"><b>1:30 PM SPECIAL SESSION</b></p><p align="center"><b>TUESDAY DECEMBER 14, 2021</b></p><p>&nbsp;</p><p align="center"><b>CLOSED SESSION</b></p><p align="center">WEST CONFERENCE ROOM</p><p align="center">350 Main Street</p><p align="center">El Segundo, CA 90245</p><p align="center" style="text-align: left;"><strong>Agenda Packet: </strong>n/a<br><strong>Additional Information:<br></strong><strong>Public Communication:<br></strong><strong>Presentations: </strong>n/a<strong><br></strong><strong>Video: </strong>n/a</p><p align="center" style="text-align: left;">&nbsp;</p><p align="center" style="text-align: left;">&nbsp;</p>
LOCATION:350 Main Street (West Conference Room)\, 350 Main Street El Segundo\, California 90245
CLASS:PUBLIC
END:VEVENT
END:VCALENDAR
