BEGIN:VCALENDAR
VERSION:2.0
PRODID:El Segundo Calendar Creator
METHOD:PUBLISH
BEGIN:VEVENT
DTSTAMP:20221018T165311
DTSTART:20211208T160000
DTEND:20211208T180000
SUMMARY:Diversity, Equity, and Inclusion Committee Meeting
DESCRIPTION:The Diversity, Equity, and Inclusion Committee will meet on Wednesday, December 8th at 6:00pm&nbsp; via Zoom.&nbsp;
X-ALT-DESC;FMTTYPE=text/html:The Diversity, Equity, and Inclusion Committee will meet on Wednesday, December 8th at 6:00pm&nbsp; via Zoom.&nbsp;
LOCATION:
CLASS:PUBLIC
END:VEVENT
END:VCALENDAR
