BEGIN:VCALENDAR
VERSION:2.0
PRODID:El Segundo Calendar Creator
METHOD:PUBLISH
BEGIN:VEVENT
DTSTAMP:20220705T131946
DTSTART:20220712T180000
DTEND:20220712T190000
SUMMARY:Library Board of Trustees
DESCRIPTION:<p>The Library Board of Trustees advises the City Council and Library Director on matters of library policy, administration, operation, and service.&nbsp; Members obtain public input, promote the library within the community, and assist with special initiatives.&nbsp; The Board meets on the second Tuesday of the month, on a bi-monthly basis, January, March, May, July, September, and November.</p><p>Please note that the Library Board of Trustees meetings are again being held in-person and will be in the Sue Carter Friends of the El Segundo Public Library Community Room.</p><p><a href="https://www.elsegundo.gov/home/showpublisheddocument/5713/637926232413500000" target="_blank">Minutes</a> from the May 10, 2022 meeting.</p><p>For any questions or additional information, please contact Mark Herbert at 310-524-2732 or email at mherbert@elsegundo.org</p><p>&nbsp;</p><p>&nbsp;</p>
X-ALT-DESC;FMTTYPE=text/html:<p>The Library Board of Trustees advises the City Council and Library Director on matters of library policy, administration, operation, and service.&nbsp; Members obtain public input, promote the library within the community, and assist with special initiatives.&nbsp; The Board meets on the second Tuesday of the month, on a bi-monthly basis, January, March, May, July, September, and November.</p><p>Please note that the Library Board of Trustees meetings are again being held in-person and will be in the Sue Carter Friends of the El Segundo Public Library Community Room.</p><p><a href="https://www.elsegundo.gov/home/showpublisheddocument/5713/637926232413500000" target="_blank">Minutes</a> from the May 10, 2022 meeting.</p><p>For any questions or additional information, please contact Mark Herbert at 310-524-2732 or email at mherbert@elsegundo.org</p><p>&nbsp;</p><p>&nbsp;</p>
LOCATION:El Segundo Public Library\, 111 W. Mariposa Avenue El Segundo\, California 90245
CLASS:PUBLIC
END:VEVENT
END:VCALENDAR
