BEGIN:VCALENDAR
VERSION:2.0
PRODID:El Segundo Calendar Creator
METHOD:PUBLISH
BEGIN:VEVENT
DTSTAMP:20220106T120301
DTSTART:20220111T190000
DTEND:20220111T200000
SUMMARY:Library Board of Trustees
DESCRIPTION:<p>The Library Board of Trustees advises the City Council and Library Director on matters of library policy, administration, operation, and service.&nbsp; Members obtain public input, promote the library within the community, and assist with special initiatives.&nbsp; The Board meets on the second Tuesday of the month, on a bi-monthly basis, January, March, May, July, September, and November.</p><p><a href="https://www.elsegundo.gov/home/showpublisheddocument/4760/637770670217200000" target="_blank">Minutes from November 9, 2021</a></p><p>Join Zoom Meeting</p><p><a href="https://us06web.zoom.us/j/89322085109?pwd=dllwWGsrbFhBc2VGK1p0aU55VWM2QT09">https://us06web.zoom.us/j/89322085109?pwd=dllwWGsrbFhBc2VGK1p0aU55VWM2QT09</a></p><p>Meeting ID: 893 2208 5109<br>Passcode: 175636<br>One tap mobile 1-346-248-7799</p><p>For any questions or additional information, please contact Mark Herbert at 310-524-2732 or email at mherbert@elsegundo.org</p><p>&nbsp;</p><p>&nbsp;</p>
X-ALT-DESC;FMTTYPE=text/html:<p>The Library Board of Trustees advises the City Council and Library Director on matters of library policy, administration, operation, and service.&nbsp; Members obtain public input, promote the library within the community, and assist with special initiatives.&nbsp; The Board meets on the second Tuesday of the month, on a bi-monthly basis, January, March, May, July, September, and November.</p><p><a href="https://www.elsegundo.gov/home/showpublisheddocument/4760/637770670217200000" target="_blank">Minutes from November 9, 2021</a></p><p>Join Zoom Meeting</p><p><a href="https://us06web.zoom.us/j/89322085109?pwd=dllwWGsrbFhBc2VGK1p0aU55VWM2QT09">https://us06web.zoom.us/j/89322085109?pwd=dllwWGsrbFhBc2VGK1p0aU55VWM2QT09</a></p><p>Meeting ID: 893 2208 5109<br>Passcode: 175636<br>One tap mobile 1-346-248-7799</p><p>For any questions or additional information, please contact Mark Herbert at 310-524-2732 or email at mherbert@elsegundo.org</p><p>&nbsp;</p><p>&nbsp;</p>
LOCATION:El Segundo Public Library\, 111 W. Mariposa Avenue El Segundo\, California 90245
CLASS:PUBLIC
END:VEVENT
END:VCALENDAR
