BEGIN:VCALENDAR
VERSION:2.0
PRODID:El Segundo Calendar Creator
METHOD:PUBLISH
BEGIN:VEVENT
DTSTAMP:20211104T183329
DTSTART:20220101T000000
DTEND:20220101T235900
SUMMARY:Library is Closed for New Year’s Day
DESCRIPTION:<p>Library is Closed for New Year’s Day.</p>
X-ALT-DESC;FMTTYPE=text/html:<p>Library is Closed for New Year’s Day.</p>
LOCATION:
CLASS:PUBLIC
END:VEVENT
END:VCALENDAR
