BEGIN:VCALENDAR
VERSION:2.0
PRODID:El Segundo Calendar Creator
METHOD:PUBLISH
BEGIN:VEVENT
DTSTAMP:20211103T173200
DTSTART:20211111T000000
DTEND:20211111T235900
SUMMARY:Library is Closed for Veterans Day
DESCRIPTION:The library will be closed on Thursday, November 11th in observance of Veterans Day.
X-ALT-DESC;FMTTYPE=text/html:The library will be closed on Thursday, November 11th in observance of Veterans Day.
LOCATION:
CLASS:PUBLIC
END:VEVENT
END:VCALENDAR
