BEGIN:VCALENDAR
VERSION:2.0
PRODID:El Segundo Calendar Creator
METHOD:PUBLISH
BEGIN:VEVENT
DTSTAMP:20211020T141028
DTSTART:20211026T173000
DTEND:20211026T200000
SUMMARY:Arts & Culture Advisory Committee Meeting
DESCRIPTION:<p>The Arts and Culture Advisory Committee meeting will take place via Zoom. For further information or for the Zoom link, please contact Senior Librarian Julie Todd at <a href="mailto:&#106;&#116;&#111;&#100;&#100;&#64;&#101;&#108;&#115;&#101;&#103;&#117;&#110;&#100;&#111;&#46;&#111;&#114;&#103;">jtodd@elsegundo.org</a> or 310-524-2729.</p><p>For Minutes from September 28, 2021 Arts and Culture Advisory Committee meeting click <a href="https://www.elsegundo.gov/home/showpublisheddocument/4320/637703353455600000" target="_blank">here</a>.</p>
X-ALT-DESC;FMTTYPE=text/html:<p>The Arts and Culture Advisory Committee meeting will take place via Zoom. For further information or for the Zoom link, please contact Senior Librarian Julie Todd at <a href="mailto:&#106;&#116;&#111;&#100;&#100;&#64;&#101;&#108;&#115;&#101;&#103;&#117;&#110;&#100;&#111;&#46;&#111;&#114;&#103;">jtodd@elsegundo.org</a> or 310-524-2729.</p><p>For Minutes from September 28, 2021 Arts and Culture Advisory Committee meeting click <a href="https://www.elsegundo.gov/home/showpublisheddocument/4320/637703353455600000" target="_blank">here</a>.</p>
LOCATION:El Segundo Public Library\, 111 W. Mariposa Avenue El Segundo\, California 90245
CLASS:PUBLIC
END:VEVENT
END:VCALENDAR
