BEGIN:VCALENDAR
VERSION:2.0
PRODID:El Segundo Calendar Creator
METHOD:PUBLISH
BEGIN:VEVENT
DTSTAMP:20260108T080806
DTSTART:20260117T140000
DTEND:20260117T160000
SUMMARY:Music in the Afternoon:  City Slickers
DESCRIPTION:<p>The El Segundo Public Library is proud to offer its first "Music in the Afternoon" concert event of 2026, featuring the trio of City Slickers.</p><p>Please click <a href="https://www.elsegundolibrary.org/home/showdocument?id=12120&amp;t=639027044061721669" target="_blank" rel="noopener">HERE</a> to view the program flyer.</p>
X-ALT-DESC;FMTTYPE=text/html:<p>The El Segundo Public Library is proud to offer its first "Music in the Afternoon" concert event of 2026, featuring the trio of City Slickers.</p><p>Please click <a href="https://www.elsegundolibrary.org/home/showdocument?id=12120&amp;t=639027044061721669" target="_blank" rel="noopener">HERE</a> to view the program flyer.</p>
LOCATION:El Segundo Public Library\, 111 W. Mariposa Avenue El Segundo\, California 90245
CLASS:PUBLIC
END:VEVENT
END:VCALENDAR
