BEGIN:VCALENDAR
VERSION:2.0
PRODID:El Segundo Calendar Creator
METHOD:PUBLISH
BEGIN:VEVENT
DTSTAMP:20260319T164218
DTSTART:20260404T090000
DTEND:20260404T113000
SUMMARY:Egg Hunt EGGstravaganza
DESCRIPTION:<div data-olk-copy-source="MessageBody">Get EGG-cited for our annual Egg Hunt Eggstravaganza &amp; Camp Expo on Saturday, April 4th! Join us at Recreation Park from 9:00am-12:30pm to meet the Bunny and join in on all the egg hunt festivities! The Bunny will make their first appearance for photos at 9:30am.</div><div data-olk-copy-source="MessageBody">&nbsp;</div><div data-olk-copy-source="MessageBody">For this year’s event,&nbsp;<strong>registration is required</strong>.&nbsp;Be sure to get your wristbands before the hunts are filled up. We have opened up <a href="https://secure.rec1.com/CA/el-segundo-ca/catalog" target="_blank" rel="noopener">online registration</a> for the event! Wristbands can be picked up  on the day of the event at our information booth. Wristbands are free with Rec ID or $5 without. Walkers and Crawlers do not need a wristband.</div><div data-olk-copy-source="MessageBody">&nbsp;</div><div data-olk-copy-source="MessageBody">Participants can register for the times and age groups listed below:</div><p data-olk-copy-source="MessageBody">&nbsp;</p><table style="width: 100%;" class="" width="100%">    <tbody>        <tr class="">            <td class="" style="">&nbsp;</td>            <td class="" style=""><strong>&nbsp;9:30am</strong></td>            <td class="" style=""><strong>&nbsp;10:00am</strong></td>            <td class="" style=""><strong>&nbsp;10:30am</strong></td>            <td class="" style=""><strong>&nbsp;11:00am</strong></td>            <td class="" style=""><strong>&nbsp;11:30am</strong></td>        </tr>        <tr class="">            <td class="" style=""><strong>&nbsp;Lawn Bowling</strong></td>            <td class="" style="">&nbsp;Crawlers</td>            <td class="" style="">&nbsp;Walkers</td>            <td class="" style="">&nbsp;Disabled</td>            <td class="" style="">&nbsp;</td>            <td class="" style="">&nbsp;</td>        </tr>        <tr class="">            <td class="" style=""><strong>&nbsp;Playground</strong></td>            <td class="" style="">&nbsp;2 Year Olds</td>            <td class="" style="">&nbsp;2 Year Olds</td>            <td class="" style="">&nbsp;2 Year Olds</td>            <td class="" style="">&nbsp;</td>            <td class="" style="">&nbsp;</td>        </tr>        <tr class="">            <td class=""><strong>&nbsp;Stevenson Field (Right)</strong></td>            <td class="">&nbsp;</td>            <td class="">&nbsp;3 &amp; 4 Year Olds</td>            <td class="">&nbsp;3 &amp; 4 Year Olds</td>            <td class="">&nbsp;3 &amp; 4 Year Olds</td>            <td class="">&nbsp;3 &amp; 4 Year Olds</td>        </tr>        <tr class="">            <td class="" style=""><strong>&nbsp;Stevenson Field (Left)</strong></td>            <td class="" style="">&nbsp;</td>            <td class="" style="">&nbsp;5 &amp; 6 Year Olds</td>            <td class="" style="">&nbsp;5 &amp; 6 Year Olds</td>            <td class="" style="">&nbsp;5 &amp; 6 Year Olds</td>            <td class="" style="">&nbsp;5 &amp; 6 Year Olds</td>        </tr>        <tr class="">            <td class="" style=""><strong>&nbsp;Softball Field</strong></td>            <td class="" style="">&nbsp;</td>            <td class="" style="">&nbsp;</td>            <td class="" style="">&nbsp;7 &amp; 8 Year Olds</td>            <td class="" style="">&nbsp;7 &amp; 8 Year Olds</td>            <td class="" style="">&nbsp;7 &amp; 8 Year Olds</td>        </tr>        <tr class="">            <td class="" style=""><strong>&nbsp;BBQ Area</strong></td>            <td class="" style="">&nbsp;</td>            <td class="" style="">&nbsp;</td>            <td class="" style="">&nbsp;</td>            <td class="" style="">&nbsp;</td>            <td class="" style="">&nbsp;9 Year Olds &amp; Up</td>        </tr>    </tbody></table><div>&nbsp;</div><div>Be sure to check out our Camp Expo where you can about all the fun we have planned for this summer!</div><p>&nbsp;</p><style type="text/css" class="govAccess-reTable-5">    .govAccess-reTable-5    {    border-collapse: collapse;    border: solid 0px;    font-family: Tahoma;    }    .govAccess-reTable-5 tr.govAccess-reTableHeaderRow-5    {    margin: 10px;    padding: 10px;    color: #3A4663;    text-align: left;    font-size: 10pt;    font-style: normal;    font-family: Tahoma;    text-transform: capitalize;    font-weight: 500;    border-spacing: 10px;    line-height: 11pt;    vertical-align: top;    }    .govAccess-reTable-5 td.govAccess-reTableHeaderFirstCol-5    {    padding: 0in 5.4pt 0in 5.4pt;    color: #3a4663;    }    .govAccess-reTable-5 td.govAccess-reTableHeaderLastCol-5    {    padding: 0in 5.4pt 0in 5.4pt;    color: #3a4663;    }    .govAccess-reTable-5 td.govAccess-reTableHeaderOddCol-5    {    padding: 0in 5.4pt 0in 5.4pt;    color: #3a4663;    }    .govAccess-reTable-5 td.govAccess-reTableHeaderEvenCol-5    {    padding: 0in 5.4pt 0in 5.4pt;    color: #3a4663;    }    .govAccess-reTable-5 tr.govAccess-reTableOddRow-5    {    color: #666666;    vertical-align: top;    font-size: 10pt;    }    .govAccess-reTable-5 tr.govAccess-reTableEvenRow-5    {    color: #666666;    vertical-align: top;    font-size: 10pt;    }    .govAccess-reTable-5 td.govAccess-reTableFirstCol-5    {    padding: 0in 5.4pt 0in 5.4pt;    }    .govAccess-reTable-5 td.govAccess-reTableLastCol-5    {    padding: 0in 5.4pt 0in 5.4pt;    }    .govAccess-reTable-5 td.govAccess-reTableOddCol-5    {    padding: 0in 5.4pt 0in 5.4pt;    }    .govAccess-reTable-5 td.govAccess-reTableEvenCol-5    {    padding: 0in 5.4pt 0in 5.4pt;    }    .govAccess-reTable-5 tr.govAccess-reTableFooterRow-5    {    color: #3a4663;    font-weight: 500;    font-size: 10pt;    font-family: Tahoma;    line-height: 11pt;    }    .govAccess-reTable-5 td.govAccess-reTableFooterFirstCol-5    {    padding: 0in 5.4pt 0in 5.4pt;    text-align: left;    }    .govAccess-reTable-5 td.govAccess-reTableFooterLastCol-5    {    padding: 0in 5.4pt 0in 5.4pt;    text-align: left;    }    .govAccess-reTable-5 td.govAccess-reTableFooterOddCol-5    {    padding: 0in 5.4pt 0in 5.4pt;    text-align: left;    }    .govAccess-reTable-5 td.govAccess-reTableFooterEvenCol-5    {    padding: 0in 5.4pt 0in 5.4pt;    text-align: left;    }</style><style type="text/css" class="govAccess-reTable-2">    .govAccess-reTable-2    {    border-collapse: collapse;    border: solid 0px;    font-family: Tahoma;    }    .govAccess-reTable-2 tr.govAccess-reTableHeaderRow-2    {    border-width: 1.0pt 1.0pt 3.0pt 1.0pt;    margin-top: 0in;    margin-right: 0in;    margin-bottom: 10.0pt;    margin-left: 0in;    line-height: 115%;    font-size: 11.0pt;    font-family: "Calibri" , "sans-serif";    width: 119.7pt;    border: solid white 1.0pt;    border-bottom: solid white 3.0pt;    background: #4F81BD;    padding: 0in 5.4pt 0in 5.4pt;    color: #FFFFFF;    }    .govAccess-reTable-2 td.govAccess-reTableHeaderFirstCol-2    {    border-width: 1.0pt 1.0pt 3.0pt 1.0pt;    border: solid white 1.0pt;    border-bottom: solid white 3.0pt;    padding: 0in 5.4pt 0in 5.4pt;    }    .govAccess-reTable-2 td.govAccess-reTableHeaderLastCol-2    {    border-width: 1.0pt 1.0pt 3.0pt 1.0pt;    border: solid white 1.0pt;    border-bottom: solid white 3.0pt;    padding: 0in 5.4pt 0in 5.4pt;    }    .govAccess-reTable-2 td.govAccess-reTableHeaderOddCol-2    {    border-width: 1.0pt 1.0pt 3.0pt 1.0pt;    border: solid white 1.0pt;    border-bottom: solid white 3.0pt;    padding: 0in 5.4pt 0in 5.4pt;    }    .govAccess-reTable-2 td.govAccess-reTableHeaderEvenCol-2    {    border-width: 1.0pt 1.0pt 3.0pt 1.0pt;    border: solid white 1.0pt;    border-bottom: solid white 3.0pt;    padding: 0in 5.4pt 0in 5.4pt;    }    .govAccess-reTable-2 tr.govAccess-reTableOddRow-2    {    color: #666666;    background-color: #F2F3F4;    font-size: 10pt;    vertical-align: top;    }    .govAccess-reTable-2 tr.govAccess-reTableEvenRow-2    {    color: #666666;    background-color: #E7EBF7;    font-size: 10pt;    vertical-align: top;    }    .govAccess-reTable-2 td.govAccess-reTableFirstCol-2    {    margin-top: 0in;    margin-right: 0in;    margin-bottom: 10.0pt;    margin-left: 0in;    line-height: 115%;    font-size: 11.0pt;    font-family: "Calibri" , "sans-serif";    width: 119.7pt;    border-top: none;    border-left: solid white 1.0pt;    border-bottom: none;    border-right: solid white 3.0pt;    background: #4F81BD;    padding: 0in 5.4pt 0in 5.4pt;    color: #FFFFFF;    }    .govAccess-reTable-2 td.govAccess-reTableLastCol-2    {    padding: 0in 5.4pt 0in 5.4pt;    }    .govAccess-reTable-2 td.govAccess-reTableOddCol-2    {    padding: 0in 5.4pt 0in 5.4pt;    }    .govAccess-reTable-2 td.govAccess-reTableEvenCol-2    {    padding: 0in 5.4pt 0in 5.4pt;    }    .govAccess-reTable-2 tr.govAccess-reTableFooterRow-2    {    color: #666666;    background-color: #FFFFFF;    font-size: 10pt;    vertical-align: top;    padding: 0in 5.4pt 0in 5.4pt;    }    .govAccess-reTable-2 td.govAccess-reTableFooterFirstCol-2    {    margin-top: 0in;    margin-right: 0in;    margin-bottom: 10.0pt;    margin-left: 0in;    line-height: 115%;    font-size: 11.0pt;    font-family: "Calibri" , "sans-serif";    width: 119.7pt;    border-top: none;    border-left: solid white 1.0pt;    border-bottom: none;    border-right: solid white 3.0pt;    background: #4F81BD;    padding: 0in 5.4pt 0in 5.4pt;    color: #FFFFFF;    }    .govAccess-reTable-2 td.govAccess-reTableFooterLastCol-2    {    padding: 0in 5.4pt 0in 5.4pt;    }    .govAccess-reTable-2 td.govAccess-reTableFooterOddCol-2    {    padding: 0in 5.4pt 0in 5.4pt;    }    .govAccess-reTable-2 td.govAccess-reTableFooterEvenCol-2    {    padding: 0in 5.4pt 0in 5.4pt;    }</style>
X-ALT-DESC;FMTTYPE=text/html:<div data-olk-copy-source="MessageBody">Get EGG-cited for our annual Egg Hunt Eggstravaganza &amp; Camp Expo on Saturday, April 4th! Join us at Recreation Park from 9:00am-12:30pm to meet the Bunny and join in on all the egg hunt festivities! The Bunny will make their first appearance for photos at 9:30am.</div><div data-olk-copy-source="MessageBody">&nbsp;</div><div data-olk-copy-source="MessageBody">For this year’s event,&nbsp;<strong>registration is required</strong>.&nbsp;Be sure to get your wristbands before the hunts are filled up. We have opened up <a href="https://secure.rec1.com/CA/el-segundo-ca/catalog" target="_blank" rel="noopener">online registration</a> for the event! Wristbands can be picked up  on the day of the event at our information booth. Wristbands are free with Rec ID or $5 without. Walkers and Crawlers do not need a wristband.</div><div data-olk-copy-source="MessageBody">&nbsp;</div><div data-olk-copy-source="MessageBody">Participants can register for the times and age groups listed below:</div><p data-olk-copy-source="MessageBody">&nbsp;</p><table style="width: 100%;" class="" width="100%">    <tbody>        <tr class="">            <td class="" style="">&nbsp;</td>            <td class="" style=""><strong>&nbsp;9:30am</strong></td>            <td class="" style=""><strong>&nbsp;10:00am</strong></td>            <td class="" style=""><strong>&nbsp;10:30am</strong></td>            <td class="" style=""><strong>&nbsp;11:00am</strong></td>            <td class="" style=""><strong>&nbsp;11:30am</strong></td>        </tr>        <tr class="">            <td class="" style=""><strong>&nbsp;Lawn Bowling</strong></td>            <td class="" style="">&nbsp;Crawlers</td>            <td class="" style="">&nbsp;Walkers</td>            <td class="" style="">&nbsp;Disabled</td>            <td class="" style="">&nbsp;</td>            <td class="" style="">&nbsp;</td>        </tr>        <tr class="">            <td class="" style=""><strong>&nbsp;Playground</strong></td>            <td class="" style="">&nbsp;2 Year Olds</td>            <td class="" style="">&nbsp;2 Year Olds</td>            <td class="" style="">&nbsp;2 Year Olds</td>            <td class="" style="">&nbsp;</td>            <td class="" style="">&nbsp;</td>        </tr>        <tr class="">            <td class=""><strong>&nbsp;Stevenson Field (Right)</strong></td>            <td class="">&nbsp;</td>            <td class="">&nbsp;3 &amp; 4 Year Olds</td>            <td class="">&nbsp;3 &amp; 4 Year Olds</td>            <td class="">&nbsp;3 &amp; 4 Year Olds</td>            <td class="">&nbsp;3 &amp; 4 Year Olds</td>        </tr>        <tr class="">            <td class="" style=""><strong>&nbsp;Stevenson Field (Left)</strong></td>            <td class="" style="">&nbsp;</td>            <td class="" style="">&nbsp;5 &amp; 6 Year Olds</td>            <td class="" style="">&nbsp;5 &amp; 6 Year Olds</td>            <td class="" style="">&nbsp;5 &amp; 6 Year Olds</td>            <td class="" style="">&nbsp;5 &amp; 6 Year Olds</td>        </tr>        <tr class="">            <td class="" style=""><strong>&nbsp;Softball Field</strong></td>            <td class="" style="">&nbsp;</td>            <td class="" style="">&nbsp;</td>            <td class="" style="">&nbsp;7 &amp; 8 Year Olds</td>            <td class="" style="">&nbsp;7 &amp; 8 Year Olds</td>            <td class="" style="">&nbsp;7 &amp; 8 Year Olds</td>        </tr>        <tr class="">            <td class="" style=""><strong>&nbsp;BBQ Area</strong></td>            <td class="" style="">&nbsp;</td>            <td class="" style="">&nbsp;</td>            <td class="" style="">&nbsp;</td>            <td class="" style="">&nbsp;</td>            <td class="" style="">&nbsp;9 Year Olds &amp; Up</td>        </tr>    </tbody></table><div>&nbsp;</div><div>Be sure to check out our Camp Expo where you can about all the fun we have planned for this summer!</div><p>&nbsp;</p><style type="text/css" class="govAccess-reTable-5">    .govAccess-reTable-5    {    border-collapse: collapse;    border: solid 0px;    font-family: Tahoma;    }    .govAccess-reTable-5 tr.govAccess-reTableHeaderRow-5    {    margin: 10px;    padding: 10px;    color: #3A4663;    text-align: left;    font-size: 10pt;    font-style: normal;    font-family: Tahoma;    text-transform: capitalize;    font-weight: 500;    border-spacing: 10px;    line-height: 11pt;    vertical-align: top;    }    .govAccess-reTable-5 td.govAccess-reTableHeaderFirstCol-5    {    padding: 0in 5.4pt 0in 5.4pt;    color: #3a4663;    }    .govAccess-reTable-5 td.govAccess-reTableHeaderLastCol-5    {    padding: 0in 5.4pt 0in 5.4pt;    color: #3a4663;    }    .govAccess-reTable-5 td.govAccess-reTableHeaderOddCol-5    {    padding: 0in 5.4pt 0in 5.4pt;    color: #3a4663;    }    .govAccess-reTable-5 td.govAccess-reTableHeaderEvenCol-5    {    padding: 0in 5.4pt 0in 5.4pt;    color: #3a4663;    }    .govAccess-reTable-5 tr.govAccess-reTableOddRow-5    {    color: #666666;    vertical-align: top;    font-size: 10pt;    }    .govAccess-reTable-5 tr.govAccess-reTableEvenRow-5    {    color: #666666;    vertical-align: top;    font-size: 10pt;    }    .govAccess-reTable-5 td.govAccess-reTableFirstCol-5    {    padding: 0in 5.4pt 0in 5.4pt;    }    .govAccess-reTable-5 td.govAccess-reTableLastCol-5    {    padding: 0in 5.4pt 0in 5.4pt;    }    .govAccess-reTable-5 td.govAccess-reTableOddCol-5    {    padding: 0in 5.4pt 0in 5.4pt;    }    .govAccess-reTable-5 td.govAccess-reTableEvenCol-5    {    padding: 0in 5.4pt 0in 5.4pt;    }    .govAccess-reTable-5 tr.govAccess-reTableFooterRow-5    {    color: #3a4663;    font-weight: 500;    font-size: 10pt;    font-family: Tahoma;    line-height: 11pt;    }    .govAccess-reTable-5 td.govAccess-reTableFooterFirstCol-5    {    padding: 0in 5.4pt 0in 5.4pt;    text-align: left;    }    .govAccess-reTable-5 td.govAccess-reTableFooterLastCol-5    {    padding: 0in 5.4pt 0in 5.4pt;    text-align: left;    }    .govAccess-reTable-5 td.govAccess-reTableFooterOddCol-5    {    padding: 0in 5.4pt 0in 5.4pt;    text-align: left;    }    .govAccess-reTable-5 td.govAccess-reTableFooterEvenCol-5    {    padding: 0in 5.4pt 0in 5.4pt;    text-align: left;    }</style><style type="text/css" class="govAccess-reTable-2">    .govAccess-reTable-2    {    border-collapse: collapse;    border: solid 0px;    font-family: Tahoma;    }    .govAccess-reTable-2 tr.govAccess-reTableHeaderRow-2    {    border-width: 1.0pt 1.0pt 3.0pt 1.0pt;    margin-top: 0in;    margin-right: 0in;    margin-bottom: 10.0pt;    margin-left: 0in;    line-height: 115%;    font-size: 11.0pt;    font-family: "Calibri" , "sans-serif";    width: 119.7pt;    border: solid white 1.0pt;    border-bottom: solid white 3.0pt;    background: #4F81BD;    padding: 0in 5.4pt 0in 5.4pt;    color: #FFFFFF;    }    .govAccess-reTable-2 td.govAccess-reTableHeaderFirstCol-2    {    border-width: 1.0pt 1.0pt 3.0pt 1.0pt;    border: solid white 1.0pt;    border-bottom: solid white 3.0pt;    padding: 0in 5.4pt 0in 5.4pt;    }    .govAccess-reTable-2 td.govAccess-reTableHeaderLastCol-2    {    border-width: 1.0pt 1.0pt 3.0pt 1.0pt;    border: solid white 1.0pt;    border-bottom: solid white 3.0pt;    padding: 0in 5.4pt 0in 5.4pt;    }    .govAccess-reTable-2 td.govAccess-reTableHeaderOddCol-2    {    border-width: 1.0pt 1.0pt 3.0pt 1.0pt;    border: solid white 1.0pt;    border-bottom: solid white 3.0pt;    padding: 0in 5.4pt 0in 5.4pt;    }    .govAccess-reTable-2 td.govAccess-reTableHeaderEvenCol-2    {    border-width: 1.0pt 1.0pt 3.0pt 1.0pt;    border: solid white 1.0pt;    border-bottom: solid white 3.0pt;    padding: 0in 5.4pt 0in 5.4pt;    }    .govAccess-reTable-2 tr.govAccess-reTableOddRow-2    {    color: #666666;    background-color: #F2F3F4;    font-size: 10pt;    vertical-align: top;    }    .govAccess-reTable-2 tr.govAccess-reTableEvenRow-2    {    color: #666666;    background-color: #E7EBF7;    font-size: 10pt;    vertical-align: top;    }    .govAccess-reTable-2 td.govAccess-reTableFirstCol-2    {    margin-top: 0in;    margin-right: 0in;    margin-bottom: 10.0pt;    margin-left: 0in;    line-height: 115%;    font-size: 11.0pt;    font-family: "Calibri" , "sans-serif";    width: 119.7pt;    border-top: none;    border-left: solid white 1.0pt;    border-bottom: none;    border-right: solid white 3.0pt;    background: #4F81BD;    padding: 0in 5.4pt 0in 5.4pt;    color: #FFFFFF;    }    .govAccess-reTable-2 td.govAccess-reTableLastCol-2    {    padding: 0in 5.4pt 0in 5.4pt;    }    .govAccess-reTable-2 td.govAccess-reTableOddCol-2    {    padding: 0in 5.4pt 0in 5.4pt;    }    .govAccess-reTable-2 td.govAccess-reTableEvenCol-2    {    padding: 0in 5.4pt 0in 5.4pt;    }    .govAccess-reTable-2 tr.govAccess-reTableFooterRow-2    {    color: #666666;    background-color: #FFFFFF;    font-size: 10pt;    vertical-align: top;    padding: 0in 5.4pt 0in 5.4pt;    }    .govAccess-reTable-2 td.govAccess-reTableFooterFirstCol-2    {    margin-top: 0in;    margin-right: 0in;    margin-bottom: 10.0pt;    margin-left: 0in;    line-height: 115%;    font-size: 11.0pt;    font-family: "Calibri" , "sans-serif";    width: 119.7pt;    border-top: none;    border-left: solid white 1.0pt;    border-bottom: none;    border-right: solid white 3.0pt;    background: #4F81BD;    padding: 0in 5.4pt 0in 5.4pt;    color: #FFFFFF;    }    .govAccess-reTable-2 td.govAccess-reTableFooterLastCol-2    {    padding: 0in 5.4pt 0in 5.4pt;    }    .govAccess-reTable-2 td.govAccess-reTableFooterOddCol-2    {    padding: 0in 5.4pt 0in 5.4pt;    }    .govAccess-reTable-2 td.govAccess-reTableFooterEvenCol-2    {    padding: 0in 5.4pt 0in 5.4pt;    }</style>
LOCATION:Recreation Park\, 401 Sheldon Street El Segundo\, California 90245
CLASS:PUBLIC
END:VEVENT
END:VCALENDAR
