BEGIN:VCALENDAR
VERSION:2.0
PRODID:El Segundo Calendar Creator
METHOD:PUBLISH
BEGIN:VEVENT
DTSTAMP:20251216T142005
DTSTART:20260907T000000
DTEND:20260907T235900
SUMMARY:Labor Day - City Hall & Library Closed
DESCRIPTION:<p>In honor of Labor Day, the below locations will be closed on Monday, Sept. 7, 2026:</p><ul>    <li>City Hall Administrative Offices</li>    <li>El Segundo Public Library</li></ul><p>There will be:</p><ul>    <li><a href="https://el-segundo.edcodisposal.com/service-schedules/" target="_blank" rel="noopener">No trash pickup: one-day delay for all customers</a></li>    <li>No street sweeping or enforcement of street sweeping parking restrictions</li>    <li>No construction allowed</li>    <li>No inspections conducted</li></ul><p>Normal City hours of operation will resume on Tuesday, Sept. 8, 2026.</p>
X-ALT-DESC;FMTTYPE=text/html:<p>In honor of Labor Day, the below locations will be closed on Monday, Sept. 7, 2026:</p><ul>    <li>City Hall Administrative Offices</li>    <li>El Segundo Public Library</li></ul><p>There will be:</p><ul>    <li><a href="https://el-segundo.edcodisposal.com/service-schedules/" target="_blank" rel="noopener">No trash pickup: one-day delay for all customers</a></li>    <li>No street sweeping or enforcement of street sweeping parking restrictions</li>    <li>No construction allowed</li>    <li>No inspections conducted</li></ul><p>Normal City hours of operation will resume on Tuesday, Sept. 8, 2026.</p>
LOCATION:El Segundo City Hall\, 350 Main Street El Segundo\, California 90245
CLASS:PUBLIC
END:VEVENT
END:VCALENDAR
