BEGIN:VCALENDAR
VERSION:2.0
PRODID:El Segundo Calendar Creator
METHOD:PUBLISH
BEGIN:VEVENT
DTSTAMP:20260311T103054
DTSTART:20260427T120000
DTEND:20260427T130000
SUMMARY:Craft 'N Chat is taking a break!
DESCRIPTION:<p direction-ltr="" align-justify="" para-style-body"="">Craft 'N Chat is taking a break during the month of April.&nbsp; Our next session will be Monday, May 11.</p><p direction-ltr="" align-justify="" para-style-body"="">Thank you!</p><p direction-ltr="" align-justify="" para-style-body"="">&nbsp;</p>
X-ALT-DESC;FMTTYPE=text/html:<p direction-ltr="" align-justify="" para-style-body"="">Craft 'N Chat is taking a break during the month of April.&nbsp; Our next session will be Monday, May 11.</p><p direction-ltr="" align-justify="" para-style-body"="">Thank you!</p><p direction-ltr="" align-justify="" para-style-body"="">&nbsp;</p>
LOCATION:El Segundo Public Library\, 111 W. Mariposa Avenue El Segundo\, California 90245
CLASS:PUBLIC
END:VEVENT
END:VCALENDAR
